BEGIN:VCALENDAR
VERSION:2.0
PRODID:-//JP’S Comedy Club - ECPv6.15.20//NONSGML v1.0//EN
CALSCALE:GREGORIAN
METHOD:PUBLISH
X-WR-CALNAME:JP’S Comedy Club
X-ORIGINAL-URL:https://jpscomedyclub.com
X-WR-CALDESC:Events for JP’S Comedy Club
REFRESH-INTERVAL;VALUE=DURATION:PT1H
X-Robots-Tag:noindex
X-PUBLISHED-TTL:PT1H
BEGIN:VTIMEZONE
TZID:America/Phoenix
BEGIN:STANDARD
TZOFFSETFROM:-0700
TZOFFSETTO:-0700
TZNAME:MST
DTSTART:20250101T000000
END:STANDARD
END:VTIMEZONE
BEGIN:VEVENT
DTSTART;TZID=America/Phoenix:20260509T210000
DTEND;TZID=America/Phoenix:20260509T230000
DTSTAMP:20260423T172327
CREATED:20260413T032132Z
LAST-MODIFIED:20260413T032800Z
UID:16884-1778360400-1778367600@jpscomedyclub.com
SUMMARY:JPs Comedy Club presents- JOSH NOVEY!!!
DESCRIPTION:Meet Josh\, a U.S. Army veteran turned professional comedian whose sharp\, relatable humor connects with audiences everywhere. With a background that brings a unique perspective to the stage\, Josh blends real-life experience with quick wit and heartfelt storytelling to create a comedy style that truly stands apart. \nFeatured on platforms such as Dry Bar Comedy\, Comedy Central\, Amazon Prime\, Netflix\, SiriusXM\, and CBS\, Josh has reached millions of viewers worldwide. His performances deliver more than just laughs—they create an experience audiences remember long after the show ends. \nWhether performing at comedy clubs\, corporate events\, casinos\, or private gatherings\, Josh consistently brings high-energy entertainment that resonates across generations and backgrounds. His military roots add depth and authenticity\, giving his comedy a distinctive edge that audiences instantly connect with. \nBook Josh today for an unforgettable night of laughter\, connection\, and feel-good comedy that leaves every audience wanting more.
URL:https://jpscomedyclub.com/event/jps-comedy-club-presents-josh-novey-3/
LOCATION:JPs COMEDY CLUB\, JPs COMEDY CLUB - 860 E. Warner Road Gilbert\, AZ 85296\, Gilbert\, AZ\, 85296\, United States
CATEGORIES:Events & Tickets
ATTACH;FMTTYPE=image/jpeg:https://jpscomedyclub.com/wp-content/uploads/2024/11/JPS-Josh-N-Flyer-ALT4-scaled.jpeg
END:VEVENT
BEGIN:VEVENT
DTSTART;TZID=America/Phoenix:20260509T190000
DTEND;TZID=America/Phoenix:20260509T203000
DTSTAMP:20260423T172327
CREATED:20260413T031727Z
LAST-MODIFIED:20260413T032823Z
UID:16880-1778353200-1778358600@jpscomedyclub.com
SUMMARY:JPs Comedy Club presents- JOSH NOVEY!!!
DESCRIPTION:Meet Josh\, a U.S. Army veteran turned professional comedian whose sharp\, relatable humor connects with audiences everywhere. With a background that brings a unique perspective to the stage\, Josh blends real-life experience with quick wit and heartfelt storytelling to create a comedy style that truly stands apart. \nFeatured on platforms such as Dry Bar Comedy\, Comedy Central\, Amazon Prime\, Netflix\, SiriusXM\, and CBS\, Josh has reached millions of viewers worldwide. His performances deliver more than just laughs—they create an experience audiences remember long after the show ends. \nWhether performing at comedy clubs\, corporate events\, casinos\, or private gatherings\, Josh consistently brings high-energy entertainment that resonates across generations and backgrounds. His military roots add depth and authenticity\, giving his comedy a distinctive edge that audiences instantly connect with. \nBook Josh today for an unforgettable night of laughter\, connection\, and feel-good comedy that leaves every audience wanting more.
URL:https://jpscomedyclub.com/event/jps-comedy-club-presents-josh-novey-2/
LOCATION:JPs COMEDY CLUB\, JPs COMEDY CLUB - 860 E. Warner Road Gilbert\, AZ 85296\, Gilbert\, AZ\, 85296\, United States
CATEGORIES:Events & Tickets
ATTACH;FMTTYPE=image/jpeg:https://jpscomedyclub.com/wp-content/uploads/2024/11/JPS-Josh-N-Flyer-ALT4-scaled.jpeg
END:VEVENT
BEGIN:VEVENT
DTSTART;TZID=America/Phoenix:20260508T210000
DTEND;TZID=America/Phoenix:20260508T230000
DTSTAMP:20260423T172327
CREATED:20260413T032350Z
LAST-MODIFIED:20260413T032840Z
UID:16887-1778274000-1778281200@jpscomedyclub.com
SUMMARY:JPs Comedy Club presents- JOSH NOVEY!!!
DESCRIPTION:Meet Josh\, a U.S. Army veteran turned professional comedian whose sharp\, relatable humor connects with audiences everywhere. With a background that brings a unique perspective to the stage\, Josh blends real-life experience with quick wit and heartfelt storytelling to create a comedy style that truly stands apart. \nFeatured on platforms such as Dry Bar Comedy\, Comedy Central\, Amazon Prime\, Netflix\, SiriusXM\, and CBS\, Josh has reached millions of viewers worldwide. His performances deliver more than just laughs—they create an experience audiences remember long after the show ends. \nWhether performing at comedy clubs\, corporate events\, casinos\, or private gatherings\, Josh consistently brings high-energy entertainment that resonates across generations and backgrounds. His military roots add depth and authenticity\, giving his comedy a distinctive edge that audiences instantly connect with. \nBook Josh today for an unforgettable night of laughter\, connection\, and feel-good comedy that leaves every audience wanting more.
URL:https://jpscomedyclub.com/event/jps-comedy-club-presents-josh-novey-4/
LOCATION:JPs COMEDY CLUB\, JPs COMEDY CLUB - 860 E. Warner Road Gilbert\, AZ 85296\, Gilbert\, AZ\, 85296\, United States
CATEGORIES:Events & Tickets
ATTACH;FMTTYPE=image/jpeg:https://jpscomedyclub.com/wp-content/uploads/2024/11/JPS-Josh-N-Flyer-ALT4-scaled.jpeg
END:VEVENT
BEGIN:VEVENT
DTSTART;TZID=America/Phoenix:20260508T190000
DTEND;TZID=America/Phoenix:20260508T203000
DTSTAMP:20260423T172327
CREATED:20260413T031604Z
LAST-MODIFIED:20260413T032928Z
UID:16877-1778266800-1778272200@jpscomedyclub.com
SUMMARY:JPs Comedy Club presents- JOSH NOVEY!!!
DESCRIPTION:Meet Josh\, a U.S. Army veteran turned professional comedian whose sharp\, relatable humor connects with audiences everywhere. With a background that brings a unique perspective to the stage\, Josh blends real-life experience with quick wit and heartfelt storytelling to create a comedy style that truly stands apart. \nFeatured on platforms such as Dry Bar Comedy\, Comedy Central\, Amazon Prime\, Netflix\, SiriusXM\, and CBS\, Josh has reached millions of viewers worldwide. His performances deliver more than just laughs—they create an experience audiences remember long after the show ends. \nWhether performing at comedy clubs\, corporate events\, casinos\, or private gatherings\, Josh consistently brings high-energy entertainment that resonates across generations and backgrounds. His military roots add depth and authenticity\, giving his comedy a distinctive edge that audiences instantly connect with. \nBook Josh today for an unforgettable night of laughter\, connection\, and feel-good comedy that leaves every audience wanting more.
URL:https://jpscomedyclub.com/event/jps-comedy-club-presents-josh-novey/
LOCATION:JPs COMEDY CLUB\, JPs COMEDY CLUB - 860 E. Warner Road Gilbert\, AZ 85296\, Gilbert\, AZ\, 85296\, United States
CATEGORIES:Events & Tickets
ATTACH;FMTTYPE=image/jpeg:https://jpscomedyclub.com/wp-content/uploads/2024/11/JPS-Josh-N-Flyer-ALT4-scaled.jpeg
END:VEVENT
BEGIN:VEVENT
DTSTART;TZID=America/Phoenix:20260502T210000
DTEND;TZID=America/Phoenix:20260502T230000
DTSTAMP:20260423T172327
CREATED:20260408T212731Z
LAST-MODIFIED:20260408T212817Z
UID:16722-1777755600-1777762800@jpscomedyclub.com
SUMMARY:JPs COMEDY CLUB presents- PATRICK DEQUIRE!!!
DESCRIPTION:Patrick DeGuire started performing stand up after losing a significant amount of vision and discovering laughter to be self therapeutic. Soon after getting started\, he won the Improv/ Harrah’s National Comedy Club Talent Search which became the catalyst to pursuing a career in stand up. Patrick has numerous appearances on national television including Comedy Central\, ‘Comics Unleashed’ on CBS and ‘Que Locos’ on Galavision. Patrick has been heard on such national syndicated radio shows as ‘The Bob and Tom Show’ and NPR. Patrick has performed/ toured with such comedians as Tom Segura\, Theo Von\, Gary Owen\, Tommy Davidson\, Gabriel Iglesias\, George Lopez and Paul Rodriguez. Besides headlining at the top comedy clubs throughout the United States\, he has also performed for the U.S. troops overseas in Australia\, the Bahamas\, Bahrain\, the Caribbean\, Cuba (Guantanamo Bay)\, Diego Garcia\, Djibouti\, Greenland\, Guam\, Honduras\, Iraq\, Japan\, Jordan\, Kuwait\, Qatar\, Saudi Arabia\, Singapore\, South Korea and UAE.
URL:https://jpscomedyclub.com/event/jps-comedy-club-presents-patrick-dequire-4/
LOCATION:JPs COMEDY CLUB\, JPs COMEDY CLUB - 860 E. Warner Road Gilbert\, AZ 85296\, Gilbert\, AZ\, 85296\, United States
ATTACH;FMTTYPE=image/jpeg:https://jpscomedyclub.com/wp-content/uploads/2025/04/IMG_1252.jpeg
END:VEVENT
BEGIN:VEVENT
DTSTART;TZID=America/Phoenix:20260502T190000
DTEND;TZID=America/Phoenix:20260502T203000
DTSTAMP:20260423T172327
CREATED:20260408T212608Z
LAST-MODIFIED:20260408T212839Z
UID:16719-1777748400-1777753800@jpscomedyclub.com
SUMMARY:JPs COMEDY CLUB presents- PATRICK DEQUIRE!!!
DESCRIPTION:Patrick DeGuire started performing stand up after losing a significant amount of vision and discovering laughter to be self therapeutic. Soon after getting started\, he won the Improv/ Harrah’s National Comedy Club Talent Search which became the catalyst to pursuing a career in stand up. Patrick has numerous appearances on national television including Comedy Central\, ‘Comics Unleashed’ on CBS and ‘Que Locos’ on Galavision. Patrick has been heard on such national syndicated radio shows as ‘The Bob and Tom Show’ and NPR. Patrick has performed/ toured with such comedians as Tom Segura\, Theo Von\, Gary Owen\, Tommy Davidson\, Gabriel Iglesias\, George Lopez and Paul Rodriguez. Besides headlining at the top comedy clubs throughout the United States\, he has also performed for the U.S. troops overseas in Australia\, the Bahamas\, Bahrain\, the Caribbean\, Cuba (Guantanamo Bay)\, Diego Garcia\, Djibouti\, Greenland\, Guam\, Honduras\, Iraq\, Japan\, Jordan\, Kuwait\, Qatar\, Saudi Arabia\, Singapore\, South Korea and UAE.
URL:https://jpscomedyclub.com/event/jps-comedy-club-presents-patrick-dequire-3/
LOCATION:JPs COMEDY CLUB\, JPs COMEDY CLUB - 860 E. Warner Road Gilbert\, AZ 85296\, Gilbert\, AZ\, 85296\, United States
CATEGORIES:Events & Tickets
ATTACH;FMTTYPE=image/jpeg:https://jpscomedyclub.com/wp-content/uploads/2025/04/IMG_1252.jpeg
END:VEVENT
BEGIN:VEVENT
DTSTART;TZID=America/Phoenix:20260501T190000
DTEND;TZID=America/Phoenix:20260501T210000
DTSTAMP:20260423T172327
CREATED:20260408T212220Z
LAST-MODIFIED:20260408T212856Z
UID:16715-1777662000-1777669200@jpscomedyclub.com
SUMMARY:JPs COMEDY CLUB presents- PATRICK DEQUIRE!!!
DESCRIPTION:Patrick DeGuire started performing stand up after losing a significant amount of vision and discovering laughter to be self therapeutic. Soon after getting started\, he won the Improv/ Harrah’s National Comedy Club Talent Search which became the catalyst to pursuing a career in stand up. Patrick has numerous appearances on national television including Comedy Central\, ‘Comics Unleashed’ on CBS and ‘Que Locos’ on Galavision. Patrick has been heard on such national syndicated radio shows as ‘The Bob and Tom Show’ and NPR. Patrick has performed/ toured with such comedians as Tom Segura\, Theo Von\, Gary Owen\, Tommy Davidson\, Gabriel Iglesias\, George Lopez and Paul Rodriguez. Besides headlining at the top comedy clubs throughout the United States\, he has also performed for the U.S. troops overseas in Australia\, the Bahamas\, Bahrain\, the Caribbean\, Cuba (Guantanamo Bay)\, Diego Garcia\, Djibouti\, Greenland\, Guam\, Honduras\, Iraq\, Japan\, Jordan\, Kuwait\, Qatar\, Saudi Arabia\, Singapore\, South Korea and UAE.
URL:https://jpscomedyclub.com/event/jps-comedy-club-presents-patrick-dequire-2/
LOCATION:JPs COMEDY CLUB\, JPs COMEDY CLUB - 860 E. Warner Road Gilbert\, AZ 85296\, Gilbert\, AZ\, 85296\, United States
ATTACH;FMTTYPE=image/jpeg:https://jpscomedyclub.com/wp-content/uploads/2025/04/IMG_1252.jpeg
END:VEVENT
BEGIN:VEVENT
DTSTART;TZID=America/Phoenix:20260501T190000
DTEND;TZID=America/Phoenix:20260501T203000
DTSTAMP:20260423T172327
CREATED:20260408T211625Z
LAST-MODIFIED:20260408T213522Z
UID:16708-1777662000-1777667400@jpscomedyclub.com
SUMMARY:JPs COMEDY CLUB presents- PATRICK DEQUIRE!!!
DESCRIPTION:Patrick DeGuire started performing stand up after losing a significant amount of vision and discovering laughter to be self therapeutic. Soon after getting started\, he won the Improv/ Harrah’s National Comedy Club Talent Search which became the catalyst to pursuing a career in stand up. Patrick has numerous appearances on national television including Comedy Central\, ‘Comics Unleashed’ on CBS and ‘Que Locos’ on Galavision. Patrick has been heard on such national syndicated radio shows as ‘The Bob and Tom Show’ and NPR. Patrick has performed/ toured with such comedians as Tom Segura\, Theo Von\, Gary Owen\, Tommy Davidson\, Gabriel Iglesias\, George Lopez and Paul Rodriguez. Besides headlining at the top comedy clubs throughout the United States\, he has also performed for the U.S. troops overseas in Australia\, the Bahamas\, Bahrain\, the Caribbean\, Cuba (Guantanamo Bay)\, Diego Garcia\, Djibouti\, Greenland\, Guam\, Honduras\, Iraq\, Japan\, Jordan\, Kuwait\, Qatar\, Saudi Arabia\, Singapore\, South Korea and UAE.
URL:https://jpscomedyclub.com/event/jps-comedy-club-presents-patrick-dequire/
LOCATION:JPs COMEDY CLUB\, JPs COMEDY CLUB - 860 E. Warner Road Gilbert\, AZ 85296\, Gilbert\, AZ\, 85296\, United States
CATEGORIES:Events & Tickets
ATTACH;FMTTYPE=image/jpeg:https://jpscomedyclub.com/wp-content/uploads/2025/04/IMG_1252.jpeg
END:VEVENT
BEGIN:VEVENT
DTSTART;TZID=America/Phoenix:20260430T190000
DTEND;TZID=America/Phoenix:20260430T210000
DTSTAMP:20260423T172327
CREATED:20260420T180147Z
LAST-MODIFIED:20260420T180147Z
UID:17110-1777575600-1777582800@jpscomedyclub.com
SUMMARY:Comedy Rumble AZ: ALL-STARS at JP’s Comedy Club
DESCRIPTION:Comedy Rumble AZ: ALL-STARS at JP’s Comedy Club \nThe most fast-paced\, high-energy stand-up competition returns to Arizona — and this time\, it’s the ALL-STARS edition. 🏆 \nComedy Rumble brings together a lineup of comics who get just a few precious minutes to prove themselves — but for this show\, every performer has already done that. These are the Closers — the winners of previous Rumbles — back on stage to compete one more time. \nIt’s comedy meets dojo discipline: sharp\, focused\, and no wasted time. \nIt’s a dojo\, not a deathmatch. \nHow it works: \nRound One \n8 All-Star comics perform 1 minute each \n→ The audience votes and the top 4 advance \nRound Two \n4 comics perform 3 minutes each \n→ The audience narrows it down to the final 2 \nFinal Round \nThe finalists perform 5 minutes\, competing for the title of All-Star Closer \nFinale \nThe winner earns a 10-minute closing set to end the night \nBetween rounds\, featured sets keep the energy high — but make no mistake\, every moment builds toward the final decision. \nThis is rapid-fire\, unpredictable\, and built with the audience at the center — \nyou decide who rises\, who thrives\, and who takes home the title. \nCome witness Arizona’s top Comedy Rumble performers go head-to-head in one final showdown.
URL:https://jpscomedyclub.com/event/comedy-rumble-az-all-stars-at-jps-comedy-club/
LOCATION:JPs COMEDY CLUB\, JPs COMEDY CLUB - 860 E. Warner Road Gilbert\, AZ 85296\, Gilbert\, AZ\, 85296\, United States
CATEGORIES:Events & Tickets
ATTACH;FMTTYPE=image/jpeg:https://jpscomedyclub.com/wp-content/uploads/2025/10/rumble.jpg
END:VEVENT
BEGIN:VEVENT
DTSTART;TZID=America/Phoenix:20260429T183000
DTEND;TZID=America/Phoenix:20260429T213000
DTSTAMP:20260423T172327
CREATED:20240917T045903Z
LAST-MODIFIED:20260423T223757Z
UID:2388-1777487400-1777498200@jpscomedyclub.com
SUMMARY:Comedy Class- Learn Stand Up Comedy!!!
DESCRIPTION:Ongoing comedy classes held most Wednesdays at 6:30PM. In this class one can expect to learn about stage presence\, joke construction\, joke formulas as well as in-depth comedy writing techniques and tips on how to get booked for comedy and acting gigs across the country. This class is designed for people wanting to learn stand-up comedy\, people who just want to be funny at home\, socially or at work and for current comedians looking to strengthen their acts. More info can be found on this website on the “CLASSES” tab.
URL:https://jpscomedyclub.com/event/comedy-class-learn-stand-up-comedy/
LOCATION:JPs COMEDY CLUB\, JPs COMEDY CLUB - 860 E. Warner Road Gilbert\, AZ 85296\, Gilbert\, AZ\, 85296\, United States
CATEGORIES:Events & Tickets
ATTACH;FMTTYPE=image/png:https://jpscomedyclub.com/wp-content/uploads/2024/09/IMG_2381.png
ORGANIZER;CN="JPs COMEDY CLUB":MAILTO:JPsCOMEDYCLUB@outlook.com
END:VEVENT
BEGIN:VEVENT
DTSTART;TZID=America/Phoenix:20260425T210000
DTEND;TZID=America/Phoenix:20260425T230000
DTSTAMP:20260423T172327
CREATED:20260408T210402Z
LAST-MODIFIED:20260408T232111Z
UID:16704-1777150800-1777158000@jpscomedyclub.com
SUMMARY:JPs Comedy Club presents- VINCE CARONE!!!
DESCRIPTION:Vince Carone is a fast-talking\, frantic\, and frustrated comedian who delivers a whirlwind of punchlines with a quick-witted\, rapid-fire style. Known for his chaotic\, cathartic\, and hilariously honest take on everyday life\, Vince connects instantly with anyone who’s ever wanted to scream at traffic\, their kids\, or the world in general. \nWith over two decades on stage\, Vince has been seen on Tubi\, Apple TV\, Prime Video\, TBS\, and heard on Chicago’s Mancow in the Morning and WGN Radio. His latest special\, Bad Father\, earned rave reviews for its brutally funny take on parenting\, marriage\, and midlife meltdowns. \nWinner of the “Best of the Midwest” Competition at Gilda’s Laughfest and a Las Vegas headliner at MGM\, Vince’s shows are fast\, furious\, and filled with real\, relatable laughs. He says the things most people only dare to whisper\, and somehow makes you feel better for laughing at them. \nCatch Vince live for a night of unapologetic honesty\, chaotic storytelling\, and laugh-out-loud therapy for anyone who’s ever tried (and failed) to keep it all together.
URL:https://jpscomedyclub.com/event/jps-comedy-club-presents-vince-carone-4/
LOCATION:JPs COMEDY CLUB\, JPs COMEDY CLUB - 860 E. Warner Road Gilbert\, AZ 85296\, Gilbert\, AZ\, 85296\, United States
CATEGORIES:Events & Tickets
ATTACH;FMTTYPE=image/jpeg:https://jpscomedyclub.com/wp-content/uploads/2026/04/VinceCarone-scaled.jpg
END:VEVENT
BEGIN:VEVENT
DTSTART;TZID=America/Phoenix:20260425T190000
DTEND;TZID=America/Phoenix:20260425T210000
DTSTAMP:20260423T172327
CREATED:20260408T210220Z
LAST-MODIFIED:20260408T210220Z
UID:16701-1777143600-1777150800@jpscomedyclub.com
SUMMARY:JPs Comedy Club presents- VINCE CARONE!!!
DESCRIPTION:Vince Carone is a fast-talking\, frantic\, and frustrated comedian who delivers a whirlwind of punchlines with a quick-witted\, rapid-fire style. Known for his chaotic\, cathartic\, and hilariously honest take on everyday life\, Vince connects instantly with anyone who’s ever wanted to scream at traffic\, their kids\, or the world in general. \nWith over two decades on stage\, Vince has been seen on Tubi\, Apple TV\, Prime Video\, TBS\, and heard on Chicago’s Mancow in the Morning and WGN Radio. His latest special\, Bad Father\, earned rave reviews for its brutally funny take on parenting\, marriage\, and midlife meltdowns. \nWinner of the “Best of the Midwest” Competition at Gilda’s Laughfest and a Las Vegas headliner at MGM\, Vince’s shows are fast\, furious\, and filled with real\, relatable laughs. He says the things most people only dare to whisper\, and somehow makes you feel better for laughing at them. \nCatch Vince live for a night of unapologetic honesty\, chaotic storytelling\, and laugh-out-loud therapy for anyone who’s ever tried (and failed) to keep it all together.
URL:https://jpscomedyclub.com/event/jps-comedy-club-presents-vince-carone-3/
LOCATION:JPs COMEDY CLUB\, JPs COMEDY CLUB - 860 E. Warner Road Gilbert\, AZ 85296\, Gilbert\, AZ\, 85296\, United States
CATEGORIES:Events & Tickets
ATTACH;FMTTYPE=image/jpeg:https://jpscomedyclub.com/wp-content/uploads/2026/04/VinceCarone-scaled.jpg
END:VEVENT
BEGIN:VEVENT
DTSTART;TZID=America/Phoenix:20260424T210000
DTEND;TZID=America/Phoenix:20260424T230000
DTSTAMP:20260423T172327
CREATED:20260408T210039Z
LAST-MODIFIED:20260420T171130Z
UID:16697-1777064400-1777071600@jpscomedyclub.com
SUMMARY:JPs Comedy Club presents- VINCE CARONE!!!
DESCRIPTION:Vince Carone is a fast-talking\, frantic\, and frustrated comedian who delivers a whirlwind of punchlines with a quick-witted\, rapid-fire style. Known for his chaotic\, cathartic\, and hilariously honest take on everyday life\, Vince connects instantly with anyone who’s ever wanted to scream at traffic\, their kids\, or the world in general. \nWith over two decades on stage\, Vince has been seen on Tubi\, Apple TV\, Prime Video\, TBS\, and heard on Chicago’s Mancow in the Morning and WGN Radio. His latest special\, Bad Father\, earned rave reviews for its brutally funny take on parenting\, marriage\, and midlife meltdowns. \nWinner of the “Best of the Midwest” Competition at Gilda’s Laughfest and a Las Vegas headliner at MGM\, Vince’s shows are fast\, furious\, and filled with real\, relatable laughs. He says the things most people only dare to whisper\, and somehow makes you feel better for laughing at them. \nCatch Vince live for a night of unapologetic honesty\, chaotic storytelling\, and laugh-out-loud therapy for anyone who’s ever tried (and failed) to keep it all together.
URL:https://jpscomedyclub.com/event/jps-comedy-club-presents-vince-carone-2/
LOCATION:JPs COMEDY CLUB\, JPs COMEDY CLUB - 860 E. Warner Road Gilbert\, AZ 85296\, Gilbert\, AZ\, 85296\, United States
CATEGORIES:Events & Tickets
ATTACH;FMTTYPE=image/jpeg:https://jpscomedyclub.com/wp-content/uploads/2026/04/VinceCarone-scaled.jpg
END:VEVENT
BEGIN:VEVENT
DTSTART;TZID=America/Phoenix:20260424T190000
DTEND;TZID=America/Phoenix:20260424T210000
DTSTAMP:20260423T172327
CREATED:20260408T205815Z
LAST-MODIFIED:20260408T205815Z
UID:16693-1777057200-1777064400@jpscomedyclub.com
SUMMARY:JPs Comedy Club presents- VINCE CARONE!!!
DESCRIPTION:Vince Carone is a fast-talking\, frantic\, and frustrated comedian who delivers a whirlwind of punchlines with a quick-witted\, rapid-fire style. Known for his chaotic\, cathartic\, and hilariously honest take on everyday life\, Vince connects instantly with anyone who’s ever wanted to scream at traffic\, their kids\, or the world in general. \nWith over two decades on stage\, Vince has been seen on Tubi\, Apple TV\, Prime Video\, TBS\, and heard on Chicago’s Mancow in the Morning and WGN Radio. His latest special\, Bad Father\, earned rave reviews for its brutally funny take on parenting\, marriage\, and midlife meltdowns. \nWinner of the “Best of the Midwest” Competition at Gilda’s Laughfest and a Las Vegas headliner at MGM\, Vince’s shows are fast\, furious\, and filled with real\, relatable laughs. He says the things most people only dare to whisper\, and somehow makes you feel better for laughing at them. \nCatch Vince live for a night of unapologetic honesty\, chaotic storytelling\, and laugh-out-loud therapy for anyone who’s ever tried (and failed) to keep it all together.
URL:https://jpscomedyclub.com/event/jps-comedy-club-presents-vince-carone/
LOCATION:JPs COMEDY CLUB\, JPs COMEDY CLUB - 860 E. Warner Road Gilbert\, AZ 85296\, Gilbert\, AZ\, 85296\, United States
CATEGORIES:Events & Tickets
ATTACH;FMTTYPE=image/jpeg:https://jpscomedyclub.com/wp-content/uploads/2026/04/VinceCarone-scaled.jpg
END:VEVENT
BEGIN:VEVENT
DTSTART;TZID=America/Phoenix:20260423T190000
DTEND;TZID=America/Phoenix:20260423T210000
DTSTAMP:20260423T172327
CREATED:20260324T173637Z
LAST-MODIFIED:20260421T232151Z
UID:16333-1776970800-1776978000@jpscomedyclub.com
SUMMARY:COMEDY SHOWCASE: Rising Local Comics Compete for the Spotlight
DESCRIPTION:Get ready for a night of big laughs and big stakes! Our top local comedians hit the stage to battle it out for a coveted headlining spot. Each comic brings their best material\, sharpest punchlines\, and strongest stage presence — but only one will earn the right to headline a future show. You bring the energy\, they bring the funny. Don’t miss the future headliner in the making!
URL:https://jpscomedyclub.com/event/comedy-showcase-rising-local-comics-compete-for-the-spotlight/
LOCATION:JPs COMEDY CLUB\, JPs COMEDY CLUB - 860 E. Warner Road Gilbert\, AZ 85296\, Gilbert\, AZ\, 85296\, United States
CATEGORIES:Events & Tickets
ATTACH;FMTTYPE=image/jpeg:https://jpscomedyclub.com/wp-content/uploads/2026/02/IMG_4938.jpeg
END:VEVENT
END:VCALENDAR